BEGIN:VCALENDAR
VERSION:2.0
PRODID:-//Nock &amp; Feather Kustom Archery - ECPv5.1.0//NONSGML v1.0//EN
CALSCALE:GREGORIAN
METHOD:PUBLISH
X-WR-CALNAME:Nock &amp; Feather Kustom Archery
X-ORIGINAL-URL:https://www.nockandfeatherarchery.com
X-WR-CALDESC:Events for Nock &amp; Feather Kustom Archery
BEGIN:VTIMEZONE
TZID:UTC
BEGIN:STANDARD
TZOFFSETFROM:+0000
TZOFFSETTO:+0000
TZNAME:UTC
DTSTART:20180101T000000
END:STANDARD
END:VTIMEZONE
BEGIN:VEVENT
DTSTART;TZID=UTC:20180616T150000
DTEND;TZID=UTC:20180616T180000
DTSTAMP:20260422T011612
CREATED:20180515T193308Z
LAST-MODIFIED:20180515T193308Z
UID:375-1529161200-1529172000@www.nockandfeatherarchery.com
SUMMARY:Aerial Archery
DESCRIPTION:Come play Aerial Archery! \n
URL:https://www.nockandfeatherarchery.com/?tribe_events=aerial-archery
LOCATION:Oswego High School Soccer Fields
END:VEVENT
END:VCALENDAR