BEGIN:VCALENDAR
VERSION:2.0
PRODID:-//Nock &amp; Feather Kustom Archery - ECPv5.1.0//NONSGML v1.0//EN
CALSCALE:GREGORIAN
METHOD:PUBLISH
X-WR-CALNAME:Nock &amp; Feather Kustom Archery
X-ORIGINAL-URL:https://www.nockandfeatherarchery.com
X-WR-CALDESC:Events for Nock &amp; Feather Kustom Archery
BEGIN:VTIMEZONE
TZID:UTC
BEGIN:STANDARD
TZOFFSETFROM:+0000
TZOFFSETTO:+0000
TZNAME:UTC
DTSTART:20190101T000000
END:STANDARD
END:VTIMEZONE
BEGIN:VEVENT
DTSTART;TZID=UTC:20190401T190000
DTEND;TZID=UTC:20190401T203000
DTSTAMP:20260421T111810
CREATED:20190314T220021Z
LAST-MODIFIED:20190314T220037Z
UID:658-1554145200-1554150600@www.nockandfeatherarchery.com
SUMMARY:April Fool's Shoot-That's no joke!
DESCRIPTION:Come enjoy a little change in your game as your target becomes your joke.  Scoring is reversed-So will be your target-Maybe?  Hmm… I guess you will have to come to participate and be prepared for anything. \nCost is $5.oo for range fee.  Rental equipment is available for $15.00 if you don’t have your own equipment. \n
URL:https://www.nockandfeatherarchery.com/?tribe_events=april-fools-shoot-were-not-kidding
END:VEVENT
END:VCALENDAR