BEGIN:VCALENDAR
VERSION:2.0
PRODID:-//Nock &amp; Feather Kustom Archery - ECPv5.1.0//NONSGML v1.0//EN
CALSCALE:GREGORIAN
METHOD:PUBLISH
X-WR-CALNAME:Nock &amp; Feather Kustom Archery
X-ORIGINAL-URL:https://www.nockandfeatherarchery.com
X-WR-CALDESC:Events for Nock &amp; Feather Kustom Archery
BEGIN:VTIMEZONE
TZID:UTC
BEGIN:STANDARD
TZOFFSETFROM:+0000
TZOFFSETTO:+0000
TZNAME:UTC
DTSTART:20180101T000000
END:STANDARD
END:VTIMEZONE
BEGIN:VEVENT
DTSTART;TZID=UTC:20180625T090000
DTEND;TZID=UTC:20180625T140000
DTSTAMP:20260421T203525
CREATED:20180516T151222Z
LAST-MODIFIED:20180516T151222Z
UID:378-1529917200-1529935200@www.nockandfeatherarchery.com
SUMMARY:Archery Day Camp
DESCRIPTION:Looking for something new and exciting for your child this summer?  We have the answer!  We will be conducting a four day archery camp Monday\, June 25\, through Thursday\, June 28.  Campers will be divided by age and each age group will meet for 90 minutes each day.  We will cover safety\, basic shooting skills\, scoring\, and range etiquette in an interactive\, game-based environment.  No previous experience is necessary.  Classes will meet in our indoor range and all equipment is provided.  All classes are taught by USA Archery and S3DA certified instructors.  Space is limited so sign up today! \n  \n9-10:30am K-4 \n10:45-12:15 5-8 \n12:30-2:00 High School \n
URL:https://www.nockandfeatherarchery.com/?tribe_events=archery-day-camp
LOCATION:Nock & Feather Kustom Archery
CATEGORIES:Classes
END:VEVENT
END:VCALENDAR