BEGIN:VCALENDAR
VERSION:2.0
PRODID:-//Nock &amp; Feather Kustom Archery - ECPv5.1.0//NONSGML v1.0//EN
CALSCALE:GREGORIAN
METHOD:PUBLISH
X-WR-CALNAME:Nock &amp; Feather Kustom Archery
X-ORIGINAL-URL:https://www.nockandfeatherarchery.com
X-WR-CALDESC:Events for Nock &amp; Feather Kustom Archery
BEGIN:VTIMEZONE
TZID:UTC
BEGIN:STANDARD
TZOFFSETFROM:+0000
TZOFFSETTO:+0000
TZNAME:UTC
DTSTART:20180101T000000
END:STANDARD
END:VTIMEZONE
BEGIN:VEVENT
DTSTART;TZID=UTC:20180519T173000
DTEND;TZID=UTC:20180519T190000
DTSTAMP:20260422T093359
CREATED:20180514T190440Z
LAST-MODIFIED:20180514T191413Z
UID:345-1526751000-1526756400@www.nockandfeatherarchery.com
SUMMARY:Game Night
DESCRIPTION:Looking for something to do with your family on Saturday night?  Come to game night!  $7 fee\, $15 equipment fee (if necessary). \nOpen to everyone.  Limit 20 people.  Every person after 20 will be placed on a waiting list and will be contacted if a spot opens up.  Call to sign up. \n
URL:https://www.nockandfeatherarchery.com/?tribe_events=game-night
LOCATION:Nock & Feather Kustom Archery
END:VEVENT
END:VCALENDAR