BEGIN:VCALENDAR
VERSION:2.0
PRODID:-//Nock &amp; Feather Kustom Archery - ECPv5.1.0//NONSGML v1.0//EN
CALSCALE:GREGORIAN
METHOD:PUBLISH
X-WR-CALNAME:Nock &amp; Feather Kustom Archery
X-ORIGINAL-URL:https://www.nockandfeatherarchery.com
X-WR-CALDESC:Events for Nock &amp; Feather Kustom Archery
BEGIN:VTIMEZONE
TZID:UTC
BEGIN:STANDARD
TZOFFSETFROM:+0000
TZOFFSETTO:+0000
TZNAME:UTC
DTSTART:20180101T000000
END:STANDARD
END:VTIMEZONE
BEGIN:VEVENT
DTSTART;TZID=UTC:20180825T173000
DTEND;TZID=UTC:20180825T190000
DTSTAMP:20260421T174153
CREATED:20180802T213846Z
LAST-MODIFIED:20180803T135742Z
UID:607-1535218200-1535223600@www.nockandfeatherarchery.com
SUMMARY:Game Night
DESCRIPTION:Need something fun to do on a Saturday night?  Come play some traditional board/card games modified for archery.  This month will feature Battleship\, Shut the Box\, and more!  We are also introducing Descending Dots a unique archery game.  Games change monthly. \nFee is $7.50 per shooter with own equipment.  Equipment rental available for $15. \nPlease call 630-896-3854 to register. \n
URL:https://www.nockandfeatherarchery.com/?tribe_events=game-night-2
END:VEVENT
END:VCALENDAR