BEGIN:VCALENDAR
VERSION:2.0
PRODID:-//Nock &amp; Feather Kustom Archery - ECPv5.1.0//NONSGML v1.0//EN
CALSCALE:GREGORIAN
METHOD:PUBLISH
X-WR-CALNAME:Nock &amp; Feather Kustom Archery
X-ORIGINAL-URL:https://www.nockandfeatherarchery.com
X-WR-CALDESC:Events for Nock &amp; Feather Kustom Archery
BEGIN:VTIMEZONE
TZID:UTC
BEGIN:STANDARD
TZOFFSETFROM:+0000
TZOFFSETTO:+0000
TZNAME:UTC
DTSTART:20180101T000000
END:STANDARD
END:VTIMEZONE
BEGIN:VEVENT
DTSTART;TZID=UTC:20180818T080000
DTEND;TZID=UTC:20180818T160000
DTSTAMP:20260421T190229
CREATED:20180802T212731Z
LAST-MODIFIED:20180803T135621Z
UID:602-1534579200-1534608000@www.nockandfeatherarchery.com
SUMMARY:Illinois State JOAD Outdoor Championship
DESCRIPTION:Come and support our Nock and Feather JOAD team that will be competing in the Illinois State JOAD Outdoor Championship.  Shoot begins at 9am.  Admission is free. \n
URL:https://www.nockandfeatherarchery.com/?tribe_events=il-state-joad-outdoor-championship
LOCATION:Dupage County Fairground\, 2015 Manchester Rd\, Wheaton\, IL\, 60187\, United States
END:VEVENT
END:VCALENDAR