BEGIN:VCALENDAR
VERSION:2.0
PRODID:-//Nock &amp; Feather Kustom Archery - ECPv5.1.0//NONSGML v1.0//EN
CALSCALE:GREGORIAN
METHOD:PUBLISH
X-WR-CALNAME:Nock &amp; Feather Kustom Archery
X-ORIGINAL-URL:https://www.nockandfeatherarchery.com
X-WR-CALDESC:Events for Nock &amp; Feather Kustom Archery
BEGIN:VTIMEZONE
TZID:UTC
BEGIN:STANDARD
TZOFFSETFROM:+0000
TZOFFSETTO:+0000
TZNAME:UTC
DTSTART:20190101T000000
END:STANDARD
END:VTIMEZONE
BEGIN:VEVENT
DTSTART;TZID=UTC:20190330T140000
DTEND;TZID=UTC:20190330T170000
DTSTAMP:20260421T125802
CREATED:20190314T215507Z
LAST-MODIFIED:20190314T215507Z
UID:656-1553954400-1553965200@www.nockandfeatherarchery.com
SUMMARY:National Virtual Vacation Day
DESCRIPTION:Need a vacation and don’t have the time or money to make it a reality?  Come check out our DART system! See our demo and give it a shot!  The DART System is our virtual hunting simulator with various game scenarios.  Demonstrations and free shooting trials begins at 2pm.  Check in at the front counter when you arrive.  We hope your little vacation experience brings you back to Nock and Feather for more virtual hunts from around the world\, as well as\, all your future hunting/archery needs. \n
URL:https://www.nockandfeatherarchery.com/?tribe_events=national-virtual-vacation-day
END:VEVENT
END:VCALENDAR