BEGIN:VCALENDAR
VERSION:2.0
PRODID:-//Nock &amp; Feather Kustom Archery - ECPv5.1.0//NONSGML v1.0//EN
CALSCALE:GREGORIAN
METHOD:PUBLISH
X-WR-CALNAME:Nock &amp; Feather Kustom Archery
X-ORIGINAL-URL:https://www.nockandfeatherarchery.com
X-WR-CALDESC:Events for Nock &amp; Feather Kustom Archery
BEGIN:VTIMEZONE
TZID:UTC
BEGIN:STANDARD
TZOFFSETFROM:+0000
TZOFFSETTO:+0000
TZNAME:UTC
DTSTART:20180101T000000
END:STANDARD
END:VTIMEZONE
BEGIN:VEVENT
DTSTART;TZID=UTC:20180614T160000
DTEND;TZID=UTC:20180614T210000
DTSTAMP:20260422T081615
CREATED:20180515T191049Z
LAST-MODIFIED:20180515T192952Z
UID:358-1528992000-1529010000@www.nockandfeatherarchery.com
SUMMARY:Oswego PrairieFest
DESCRIPTION:Come see us at Oswego’s PrairieFest!  Booth #8\, Fitness Lane\, Expo Village \n
URL:https://www.nockandfeatherarchery.com/?tribe_events=oswego-prairiefest
LOCATION:PrairieFest\, 91 Plank Drive\, Oswego\, IL\, United States
END:VEVENT
END:VCALENDAR