BEGIN:VCALENDAR
VERSION:2.0
PRODID:-//Nock &amp; Feather Kustom Archery - ECPv5.1.0//NONSGML v1.0//EN
CALSCALE:GREGORIAN
METHOD:PUBLISH
X-WR-CALNAME:Nock &amp; Feather Kustom Archery
X-ORIGINAL-URL:https://www.nockandfeatherarchery.com
X-WR-CALDESC:Events for Nock &amp; Feather Kustom Archery
BEGIN:VTIMEZONE
TZID:UTC
BEGIN:STANDARD
TZOFFSETFROM:+0000
TZOFFSETTO:+0000
TZNAME:UTC
DTSTART:20180101T000000
END:STANDARD
END:VTIMEZONE
BEGIN:VEVENT
DTSTART;TZID=UTC:20180617T130000
DTEND;TZID=UTC:20180617T130000
DTSTAMP:20260421T221323
CREATED:20180515T191838Z
LAST-MODIFIED:20180515T191838Z
UID:369-1529240400-1529240400@www.nockandfeatherarchery.com
SUMMARY:Oswego PrairieFest Parade
DESCRIPTION:Come see us in Oswego’s PrairieFest parade \n
URL:https://www.nockandfeatherarchery.com/?tribe_events=oswego-prairiefest-parade
LOCATION:Downtown Oswego
END:VEVENT
END:VCALENDAR