BEGIN:VCALENDAR
VERSION:2.0
PRODID:-//Nock &amp; Feather Kustom Archery - ECPv5.1.0//NONSGML v1.0//EN
CALSCALE:GREGORIAN
METHOD:PUBLISH
X-WR-CALNAME:Nock &amp; Feather Kustom Archery
X-ORIGINAL-URL:https://www.nockandfeatherarchery.com
X-WR-CALDESC:Events for Nock &amp; Feather Kustom Archery
BEGIN:VTIMEZONE
TZID:UTC
BEGIN:STANDARD
TZOFFSETFROM:+0000
TZOFFSETTO:+0000
TZNAME:UTC
DTSTART:20190101T000000
END:STANDARD
END:VTIMEZONE
BEGIN:VEVENT
DTSTART;TZID=UTC:20190316T090000
DTEND;TZID=UTC:20190316T120000
DTSTAMP:20260421T142618
CREATED:20190314T213835Z
LAST-MODIFIED:20190314T213859Z
UID:652-1552726800-1552737600@www.nockandfeatherarchery.com
SUMMARY:St. Patrick's Day Shoot - JOAD
DESCRIPTION:Watch out for all the blarney Saturday morning as the JOAD students take aim at some shamrocks. \n
URL:https://www.nockandfeatherarchery.com/?tribe_events=st-patricks-day-shoot-joad
END:VEVENT
END:VCALENDAR